BEGIN:VCALENDAR
VERSION:2.0
METHOD:PUBLISH
PRODID:-//Telerik Inc.//Sitefinity CMS 12.1//EN
BEGIN:VTIMEZONE
TZID:UTC
BEGIN:STANDARD
DTSTART;VALUE=DATE:20190101
TZNAME:UTC
TZOFFSETFROM:+0000
TZOFFSETTO:+0000
END:STANDARD
END:VTIMEZONE
BEGIN:VEVENT
DESCRIPTION:European Conference - Berenberg
DTEND:20141204T120000Z
DTSTAMP:20200125T091926Z
DTSTART:20141204T100000Z
LOCATION:Paris
SEQUENCE:0
SUMMARY:European Conference - Berenberg
UID:RFCALITEM637155443661939468
X-ALT-DESC;FMTTYPE=text/html:European Conference - Berenberg
END:VEVENT
END:VCALENDAR
