BEGIN:VCALENDAR
VERSION:2.0
METHOD:PUBLISH
PRODID:-//Telerik Inc.//Sitefinity CMS 12.1//EN
BEGIN:VTIMEZONE
TZID:UTC
BEGIN:STANDARD
DTSTART;VALUE=DATE:20190101
TZNAME:UTC
TZOFFSETFROM:+0000
TZOFFSETTO:+0000
END:STANDARD
END:VTIMEZONE
BEGIN:VEVENT
DESCRIPTION:
DTEND:20200729T130000Z
DTSTAMP:20200125T092021Z
DTSTART:20200729T070000Z
LOCATION:
SEQUENCE:0
SUMMARY:Résultats semestriels 2020
UID:RFCALITEM637155444216396844
X-ALT-DESC;FMTTYPE=text/html:
END:VEVENT
END:VCALENDAR
