BEGIN:VCALENDAR
VERSION:2.0
METHOD:PUBLISH
PRODID:-//Telerik Inc.//Sitefinity CMS 12.1//EN
BEGIN:VTIMEZONE
TZID:UTC
BEGIN:STANDARD
DTSTART;VALUE=DATE:20190101
TZNAME:UTC
TZOFFSETFROM:+0000
TZOFFSETTO:+0000
END:STANDARD
END:VTIMEZONE
BEGIN:VEVENT
DESCRIPTION:
DTEND:20200729T130000Z
DTSTAMP:20200122T190609Z
DTSTART:20200729T070000Z
LOCATION:
SEQUENCE:0
SUMMARY:2020 Half Year Results
UID:RFCALITEM637153203691238204
X-ALT-DESC;FMTTYPE=text/html:
END:VEVENT
END:VCALENDAR
