BEGIN:VCALENDAR
VERSION:2.0
METHOD:PUBLISH
PRODID:-//Telerik Inc.//Sitefinity CMS 12.1//EN
BEGIN:VTIMEZONE
TZID:UTC
BEGIN:STANDARD
DTSTART;VALUE=DATE:20190101
TZNAME:UTC
TZOFFSETFROM:+0000
TZOFFSETTO:+0000
END:STANDARD
END:VTIMEZONE
BEGIN:VEVENT
DESCRIPTION:
DTEND:20200609T130000Z
DTSTAMP:20200125T092019Z
DTSTART:20200609T070000Z
LOCATION:
SEQUENCE:0
SUMMARY:Assemblée Générale
UID:RFCALITEM637155444193307364
X-ALT-DESC;FMTTYPE=text/html:
END:VEVENT
END:VCALENDAR
