BEGIN:VCALENDAR
VERSION:2.0
METHOD:PUBLISH
PRODID:-//Telerik Inc.//Sitefinity CMS 12.1//EN
BEGIN:VTIMEZONE
TZID:UTC
BEGIN:STANDARD
DTSTART;VALUE=DATE:20190101
TZNAME:UTC
TZOFFSETFROM:+0000
TZOFFSETTO:+0000
END:STANDARD
END:VTIMEZONE
BEGIN:VEVENT
DESCRIPTION:
DTEND:20200424T130000Z
DTSTAMP:20200426T012954Z
DTSTART:20200424T070000Z
LOCATION:
SEQUENCE:0
SUMMARY:1st Quarter Revenue 2020
UID:RFCALITEM637234685949771903
X-ALT-DESC;FMTTYPE=text/html:
END:VEVENT
END:VCALENDAR
